BEGIN:VCALENDAR
VERSION:2.0
PRODID:-//Squarespace Inc/Squarespace 6//v6//EN
BEGIN:VEVENT
UID:5b0ca4602b6a288855c8770e@squarespace.com
DTSTAMP:20180723T054025Z
DTSTART:20180913T230000Z
DTEND:20180914T053000Z
SUMMARY:1 Day Hempcrete Building Workshop - Police Point\, Tasmania
GEO:-43.244026;147.036994
LOCATION:Location\, 572 Esperance Coast Road\, Police Point\, TAS\, 7116\, 
 Australia
END:VEVENT
END:VCALENDAR
