BEGIN:VCALENDAR
VERSION:2.0
PRODID:-//Squarespace Inc/Squarespace 6//v6//EN
BEGIN:VEVENT
UID:5b52e1cc88251b4755ed0a0b@squarespace.com
DTSTAMP:20181015T043441Z
DTSTART:20181018T223000Z
DTEND:20181020T050000Z
SUMMARY:1 and 2 Day Hempcrete Building Workshops - Kyneton\, Victoria
GEO:-37.244245;144.45106
LOCATION:Location\, 26 Piper Street\, Kyneton\, VIC\, 3444\, Australia
END:VEVENT
END:VCALENDAR
