BEGIN:VCALENDAR
VERSION:2.0
PRODID:-//Squarespace Inc/Squarespace 6//v6//EN
BEGIN:VEVENT
UID:5b56ac4aaa4a997ca1c7093f@squarespace.com
DTSTAMP:20181015T043508Z
DTSTART:20181115T223000Z
DTEND:20181117T050000Z
SUMMARY:1 and 2 Day Hempcrete Building Workshops - Kyneton\, Victoria
GEO:-43.244026;147.036994
LOCATION:Location\, 26 Piper Street\, Kyneton\, VIC\, 3444\, Australia
END:VEVENT
END:VCALENDAR
