BEGIN:VCALENDAR
VERSION:2.0
PRODID:-//Squarespace Inc/Squarespace 6//v6//EN
BEGIN:VEVENT
UID:5bc41991a4222f13d0ebe3ee@squarespace.com
DTSTAMP:20181120T213608Z
DTSTART:20190321T223000Z
DTEND:20190323T050000Z
SUMMARY:1 and 2 Day Hempcrete Building Workshops - Kyneton\, Victoria
GEO:-37.244245;144.45106
LOCATION:Location\, 26 Piper Street\, Kyneton\, VIC\, 3444\, Australia
END:VEVENT
END:VCALENDAR
